BEGIN:VCALENDAR
VERSION:2.0
PRODID:-//Intand Corporation//Tandem//EN
METHOD:PUBLISH
BEGIN:VEVENT
DTSTAMP:20260422T003503Z
DTSTART:20170418T163000Z
DTEND:20170418T223000Z
TRANSP:TRANSPARENT
PRIORITY:0
SUMMARY:Dancing People workshop
LOCATION:GPHS PAC Stage
DESCRIPTION:Groups:\nDancing People\n\nSchools:\nGrants Pass High School \
 n\nLocation:\nGPHS PAC Stage\n\n
URL;VALUE=URI:https://grantspass.tandem.co/index.php?type=view&action=even
 t&id=46661
CREATED:20170320T165941Z
LAST-MODIFIED:20170403T154401Z
UID:event-46661-grantspasshigh@intand.com
END:VEVENT
END:VCALENDAR
