BEGIN:VCALENDAR
VERSION:2.0
PRODID:-//Intand Corporation//Tandem//EN
METHOD:PUBLISH
BEGIN:VEVENT
DTSTAMP:20260422T013135Z
DTSTART:20170406T023000Z
DTEND:20170406T040000Z
TRANSP:TRANSPARENT
PRIORITY:0
SUMMARY:DB Soccer
LOCATION:GPHS Track Field
DESCRIPTION:Groups:\nDutch Bros\n\nSchools:\nGrants Pass High School \n\nL
 ocation:\nGPHS Track Field\n\n
URL;VALUE=URI:https://grantspass.tandem.co/index.php?type=view&action=even
 t&id=46648
CREATED:20170403T132616Z
LAST-MODIFIED:20170403T132616Z
UID:event-46648-grantspasshigh@intand.com
END:VEVENT
END:VCALENDAR
