BEGIN:VCALENDAR
VERSION:2.0
PRODID:-//Intand Corporation//Tandem//EN
METHOD:PUBLISH
BEGIN:VEVENT
DTSTAMP:20260422T001740Z
DTSTART;VALUE=DATE:20110408
DTEND;VALUE=DATE:20110409
TRANSP:TRANSPARENT
PRIORITY:0
SUMMARY:NMS Gym Closure - Professional Dev Day
LOCATION:North Middle School
DESCRIPTION:Groups:\nNorth MS Parents\nNorth MS Staff\n\nSchools:\nNorth M
 iddle School\n\nLocation:\nNorth Middle School\n\n
URL;VALUE=URI:https://grantspass.tandem.co/index.php?type=view&action=even
 t&id=4660
CREATED:20101202T232633Z
LAST-MODIFIED:20101202T232633Z
UID:event-4660-grantspasshigh@intand.com
END:VEVENT
END:VCALENDAR
