BEGIN:VCALENDAR
VERSION:2.0
PRODID:-//Intand Corporation//Tandem//EN
METHOD:PUBLISH
BEGIN:VEVENT
DTSTAMP:20260422T003216Z
DTSTART:20170402T190000Z
DTEND:20170403T000000Z
TRANSP:TRANSPARENT
PRIORITY:0
SUMMARY:SOSA
LOCATION:GPHS Track Field
DESCRIPTION:Groups:\nSOSA- Hector Cruz\n\nSchools:\nGrants Pass High Schoo
 l \n\nLocation:\nGPHS Track Field\n\n
URL;VALUE=URI:https://grantspass.tandem.co/index.php?type=view&action=even
 t&id=46597
CREATED:20170323T204347Z
LAST-MODIFIED:20170323T204347Z
UID:event-46597-grantspasshigh@intand.com
END:VEVENT
END:VCALENDAR
