BEGIN:VCALENDAR
VERSION:2.0
PRODID:-//Intand Corporation//Tandem//EN
METHOD:PUBLISH
BEGIN:VEVENT
DTSTAMP:20260422T003203Z
DTSTART:20170425T023000Z
DTEND:20170425T040000Z
TRANSP:TRANSPARENT
PRIORITY:0
SUMMARY:Hector Cruz Soccer
LOCATION:GPHS Track Field
DESCRIPTION:Groups:\nHector Cruz Soccer\n\nSchools:\nGrants Pass High Scho
 ol \n\nLocation:\nGPHS Track Field\n\n
URL;VALUE=URI:https://grantspass.tandem.co/index.php?type=view&action=even
 t&id=46236
CREATED:20170309T215837Z
LAST-MODIFIED:20170410T161037Z
UID:event-46236-grantspasshigh@intand.com
END:VEVENT
END:VCALENDAR
