BEGIN:VCALENDAR
VERSION:2.0
PRODID:-//Intand Corporation//Tandem//EN
METHOD:PUBLISH
BEGIN:VEVENT
DTSTAMP:20260422T003526Z
DTSTART:20170322T010000Z
DTEND:20170322T030000Z
TRANSP:TRANSPARENT
PRIORITY:0
SUMMARY:GPYSC
LOCATION:GPHS Mel Ingram Football Field
DESCRIPTION:Groups:\nGPYSC- soccer\n\nSchools:\nGrants Pass High School \n
 \nLocation:\nGPHS Mel Ingram Football Field\n\n
URL;VALUE=URI:https://grantspass.tandem.co/index.php?type=view&action=even
 t&id=46203
CREATED:20170306T212100Z
LAST-MODIFIED:20170306T212325Z
UID:event-46203-grantspasshigh@intand.com
END:VEVENT
END:VCALENDAR
