BEGIN:VCALENDAR
VERSION:2.0
PRODID:-//Intand Corporation//Tandem//EN
METHOD:PUBLISH
BEGIN:VEVENT
DTSTAMP:20260422T003127Z
DTSTART:20170318T210000Z
DTEND:20170318T230000Z
TRANSP:TRANSPARENT
PRIORITY:0
SUMMARY:GPHS Boys Tennis @ Marshfield
LOCATION:Marshfield High School
DESCRIPTION:Groups:\nGPHS Tennis Boys\n\nSchools:\nMarshfield High School\
 nGrants Pass High School \n\nLocation:\nMarshfield High School\n\n
URL;VALUE=URI:https://grantspass.tandem.co/index.php?type=view&action=even
 t&id=46176
CREATED:20170306T075803Z
LAST-MODIFIED:20170306T075803Z
UID:event-46176-grantspasshigh@intand.com
END:VEVENT
END:VCALENDAR
