BEGIN:VCALENDAR
VERSION:2.0
PRODID:-//Intand Corporation//Tandem//EN
METHOD:PUBLISH
BEGIN:VEVENT
DTSTAMP:20260422T003737Z
DTSTART:20170425T230000Z
DTEND:20170426T020000Z
TRANSP:TRANSPARENT
PRIORITY:0
SUMMARY:GPHS Girls Tennis @ South Eugene
LOCATION:South Eugene High School
DESCRIPTION:Groups:\nGPHS Tennis Girls\n\nSchools:\nSouth Eugene High Scho
 ol\nGrants Pass High School \n\nLocation:\nSouth Eugene High School\n\n
URL;VALUE=URI:https://grantspass.tandem.co/index.php?type=view&action=even
 t&id=46168
CREATED:20170306T073924Z
LAST-MODIFIED:20170306T073924Z
UID:event-46168-grantspasshigh@intand.com
END:VEVENT
END:VCALENDAR
