BEGIN:VCALENDAR
VERSION:2.0
PRODID:-//Intand Corporation//Tandem//EN
METHOD:PUBLISH
BEGIN:VEVENT
DTSTAMP:20260422T002513Z
DTSTART:20170318T210000Z
DTEND:20170318T230000Z
TRANSP:TRANSPARENT
PRIORITY:0
SUMMARY:GPHS Girls Tennis @ North Bend
LOCATION:North Bend High School
DESCRIPTION:Groups:\nGPHS Tennis Girls\n\nSchools:\nNorth Bend High School
 \nGrants Pass High School \n\nLocation:\nNorth Bend High School\n\n
URL;VALUE=URI:https://grantspass.tandem.co/index.php?type=view&action=even
 t&id=46159
CREATED:20170306T073924Z
LAST-MODIFIED:20170306T073924Z
UID:event-46159-grantspasshigh@intand.com
END:VEVENT
END:VCALENDAR
