BEGIN:VCALENDAR
VERSION:2.0
PRODID:-//Intand Corporation//Tandem//EN
METHOD:PUBLISH
BEGIN:VEVENT
DTSTAMP:20260422T013331Z
DTSTART:20170422T190000Z
DTEND:20170422T230000Z
TRANSP:TRANSPARENT
PRIORITY:0
SUMMARY:GPHS Varsity Baseball DH w/South Medford @ GPHS
LOCATION:GPHS Baseball Field
DESCRIPTION:Groups:\nGPHS Baseball Varsity\n\nSchools:\nSouth Medford High
  School\nGrants Pass High School \n\nLocation:\nGPHS Baseball Field\n\n
URL;VALUE=URI:https://grantspass.tandem.co/index.php?type=view&action=even
 t&id=46118
CREATED:20170306T034500Z
LAST-MODIFIED:20170306T034500Z
UID:event-46118-grantspasshigh@intand.com
END:VEVENT
END:VCALENDAR
