BEGIN:VCALENDAR
VERSION:2.0
PRODID:-//Intand Corporation//Tandem//EN
METHOD:PUBLISH
BEGIN:VEVENT
DTSTAMP:20260422T013300Z
DTSTART:20170321T233000Z
DTEND:20170322T013000Z
TRANSP:TRANSPARENT
PRIORITY:0
SUMMARY:GPHS Varsity Baseball @ South Medford/Harry & David Field
LOCATION:Harry and David Field
DESCRIPTION:Groups:\nGPHS Baseball Varsity\n\nSchools:\nGrants Pass High S
 chool \n\nLocation:\nHarry and David Field\n\n
URL;VALUE=URI:https://grantspass.tandem.co/index.php?type=view&action=even
 t&id=46108
CREATED:20170306T034500Z
LAST-MODIFIED:20170310T182716Z
UID:event-46108-grantspasshigh@intand.com
END:VEVENT
END:VCALENDAR
