BEGIN:VCALENDAR
VERSION:2.0
PRODID:-//Intand Corporation//Tandem//EN
METHOD:PUBLISH
BEGIN:VEVENT
DTSTAMP:20260422T012945Z
DTSTART:20170424T233000Z
DTEND:20170425T013000Z
TRANSP:TRANSPARENT
PRIORITY:0
SUMMARY:GPHS JV Baseball w/Sheldon @ GPHS
LOCATION:GPHS JV Baseball Field
DESCRIPTION:Groups:\nGPHS Baseball JV\n\nSchools:\nGrants Pass High School
  \nSheldon High School\n\nLocation:\nGPHS JV Baseball Field\n\n
URL;VALUE=URI:https://grantspass.tandem.co/index.php?type=view&action=even
 t&id=46095
CREATED:20170306T025355Z
LAST-MODIFIED:20170419T223837Z
UID:event-46095-grantspasshigh@intand.com
END:VEVENT
END:VCALENDAR
