BEGIN:VCALENDAR
VERSION:2.0
PRODID:-//Intand Corporation//Tandem//EN
METHOD:PUBLISH
BEGIN:VEVENT
DTSTAMP:20260422T002451Z
DTSTART:20170424T233000Z
DTEND:20170425T013000Z
TRANSP:TRANSPARENT
PRIORITY:0
SUMMARY:GPHS JV Softball @ Sheldon
LOCATION:Sheldon High School
DESCRIPTION:Groups:\nGPHS Softball JV\n\nSchools:\nGrants Pass High School
  \nSheldon High School\n\nLocation:\nSheldon High School\n\n
URL;VALUE=URI:https://grantspass.tandem.co/index.php?type=view&action=even
 t&id=46048
CREATED:20170303T063841Z
LAST-MODIFIED:20170419T223854Z
UID:event-46048-grantspasshigh@intand.com
END:VEVENT
END:VCALENDAR
