BEGIN:VCALENDAR
VERSION:2.0
PRODID:-//Intand Corporation//Tandem//EN
METHOD:PUBLISH
BEGIN:VEVENT
DTSTAMP:20260422T002401Z
DTSTART:20170404T233000Z
DTEND:20170405T013000Z
TRANSP:TRANSPARENT
PRIORITY:0
SUMMARY:GPHS JV Softball @ Willamette
LOCATION:Willamette High School
DESCRIPTION:Groups:\nGPHS Softball JV\n\nSchools:\nWillamette High School\
 nGrants Pass High School \n\nLocation:\nWillamette High School\n\n
URL;VALUE=URI:https://grantspass.tandem.co/index.php?type=view&action=even
 t&id=46044
CREATED:20170303T063841Z
LAST-MODIFIED:20170303T063841Z
UID:event-46044-grantspasshigh@intand.com
END:VEVENT
END:VCALENDAR
