BEGIN:VCALENDAR
VERSION:2.0
PRODID:-//Intand Corporation//Tandem//EN
METHOD:PUBLISH
BEGIN:VEVENT
DTSTAMP:20260422T003216Z
DTSTART:20170429T180000Z
DTEND:20170429T220000Z
TRANSP:TRANSPARENT
PRIORITY:0
SUMMARY:GPHS Varsity Softball DH w/Willamette @ GPHS
LOCATION:GPHS Softball Field
DESCRIPTION:Groups:\nGPHS Softball Varsity\n\nSchools:\nWillamette High Sc
 hool\nGrants Pass High School \n\nLocation:\nGPHS Softball Field\n\n
URL;VALUE=URI:https://grantspass.tandem.co/index.php?type=view&action=even
 t&id=46027
CREATED:20170301T074656Z
LAST-MODIFIED:20170301T074656Z
UID:event-46027-grantspasshigh@intand.com
END:VEVENT
END:VCALENDAR
