BEGIN:VCALENDAR
VERSION:2.0
PRODID:-//Intand Corporation//Tandem//EN
METHOD:PUBLISH
BEGIN:VEVENT
DTSTAMP:20260422T003516Z
DTSTART:20170314T160000Z
DTEND:20170314T183000Z
TRANSP:TRANSPARENT
PRIORITY:0
SUMMARY:8th Grade visit (North)
LOCATION:GPHS PAC Stage
DESCRIPTION:Groups:\nNorth MS Student Body\n\nSchools:\nNorth Middle Schoo
 l\nGrants Pass High School \n\nLocation:\nGPHS PAC Stage\n\n
URL;VALUE=URI:https://grantspass.tandem.co/index.php?type=view&action=even
 t&id=45820
CREATED:20170216T204734Z
LAST-MODIFIED:20170216T204734Z
UID:event-45820-grantspasshigh@intand.com
END:VEVENT
END:VCALENDAR
