BEGIN:VCALENDAR
VERSION:2.0
PRODID:-//Intand Corporation//Tandem//EN
METHOD:PUBLISH
BEGIN:VEVENT
DTSTAMP:20260422T003536Z
DTSTART:20170426T220000Z
DTEND:20170427T023000Z
TRANSP:TRANSPARENT
PRIORITY:0
SUMMARY:Middle School Track Meet
LOCATION:GPHS Track\, GPHS Track Field
DESCRIPTION:Groups:\nSMS Staff\nNorth Middle School Administrators\n\nScho
 ols:\nGrants Pass High School \nSouth Middle School\nNorth Middle School\n
 \nLocations:\nGPHS Track\nGPHS Track Field\n\n
URL;VALUE=URI:https://grantspass.tandem.co/index.php?type=view&action=even
 t&id=45717
CREATED:20170209T153730Z
LAST-MODIFIED:20170209T153730Z
UID:event-45717-grantspasshigh@intand.com
END:VEVENT
END:VCALENDAR
