BEGIN:VCALENDAR
VERSION:2.0
PRODID:-//Intand Corporation//Tandem//EN
METHOD:PUBLISH
BEGIN:VEVENT
DTSTAMP:20260422T003512Z
DTSTART:20170217T020000Z
DTEND:20170217T040000Z
TRANSP:TRANSPARENT
PRIORITY:0
SUMMARY:JVII Girls Basketball @ Crater
LOCATION:Crater High School
DESCRIPTION:Groups:\nGPHS Basketball Girls JVII\n\nSchools:\nCrater High S
 chool\nGrants Pass High School \n\nLocation:\nCrater High School\n\n
URL;VALUE=URI:https://grantspass.tandem.co/index.php?type=view&action=even
 t&id=45712
CREATED:20170208T180825Z
LAST-MODIFIED:20170208T180825Z
UID:event-45712-grantspasshigh@intand.com
END:VEVENT
END:VCALENDAR
