BEGIN:VCALENDAR
VERSION:2.0
PRODID:-//Intand Corporation//Tandem//EN
METHOD:PUBLISH
BEGIN:VEVENT
DTSTAMP:20260422T003526Z
DTSTART:20170311T010000Z
DTEND:20170311T043000Z
TRANSP:TRANSPARENT
PRIORITY:0
SUMMARY:Family Movie Night
LOCATION:Highland Gym
DESCRIPTION:Schools:\nHighland Elementary School\n\nLocation:\nHighland Gy
 m\n\n
URL;VALUE=URI:https://grantspass.tandem.co/index.php?type=view&action=even
 t&id=45420
CREATED:20170119T205013Z
LAST-MODIFIED:20170119T205013Z
UID:event-45420-grantspasshigh@intand.com
END:VEVENT
END:VCALENDAR
