BEGIN:VCALENDAR
VERSION:2.0
PRODID:-//Intand Corporation//Tandem//EN
METHOD:PUBLISH
BEGIN:VEVENT
DTSTAMP:20260422T003857Z
DTSTART;VALUE=DATE:20170304
DTEND;VALUE=DATE:20170305
TRANSP:TRANSPARENT
PRIORITY:0
SUMMARY:Royalettes Competition @ Evergreen HS\, Vancouver\, WA
LOCATION:Evergreen High School
DESCRIPTION:Setup: TBD\nBreakdown: TBD\n\nDepart: TBD\nReturn: TBD\n\nGrou
 ps:\nGPHS Royalettes\n\nSchools:\nGrants Pass High School \n\nLocation:\nE
 vergreen High School\n\n
URL;VALUE=URI:https://grantspass.tandem.co/index.php?type=view&action=even
 t&id=45417
CREATED:20170119T185514Z
LAST-MODIFIED:20170119T185514Z
UID:event-45417-grantspasshigh@intand.com
END:VEVENT
END:VCALENDAR
