BEGIN:VCALENDAR
VERSION:2.0
PRODID:-//Intand Corporation//Tandem//EN
METHOD:PUBLISH
BEGIN:VEVENT
DTSTAMP:20260422T003359Z
DTSTART:20170114T220000Z
DTEND:20170115T000000Z
TRANSP:TRANSPARENT
PRIORITY:0
SUMMARY:AAU Boys Basketball
LOCATION:GPHS Main Gym
DESCRIPTION:Groups:\nAAU Boys Basketball\n\nSchools:\nGrants Pass High Sch
 ool \n\nLocation:\nGPHS Main Gym\n\n
URL;VALUE=URI:https://grantspass.tandem.co/index.php?type=view&action=even
 t&id=45365
CREATED:20170113T000949Z
LAST-MODIFIED:20170113T000949Z
UID:event-45365-grantspasshigh@intand.com
END:VEVENT
END:VCALENDAR
