BEGIN:VCALENDAR
VERSION:2.0
PRODID:-//Intand Corporation//Tandem//EN
METHOD:PUBLISH
BEGIN:VEVENT
DTSTAMP:20260422T001525Z
DTSTART:20170131T013000Z
DTEND:20170131T023000Z
TRANSP:TRANSPARENT
PRIORITY:0
SUMMARY:B&G Club Basketball  Jeff Cox 541-291-0046
LOCATION:Parkside Gym
DESCRIPTION:Groups:\nB&G Club Basketball\n\nSchools:\nParkside Elementary 
 School\n\nLocation:\nParkside Gym\n\n
URL;VALUE=URI:https://grantspass.tandem.co/index.php?type=view&action=even
 t&id=45124
CREATED:20170103T210826Z
LAST-MODIFIED:20170103T210826Z
UID:event-45124-grantspasshigh@intand.com
END:VEVENT
END:VCALENDAR
