BEGIN:VCALENDAR
VERSION:2.0
PRODID:-//Intand Corporation//Tandem//EN
METHOD:PUBLISH
BEGIN:VEVENT
DTSTAMP:20260422T013250Z
DTSTART:20170203T020000Z
DTEND:20170203T033000Z
TRANSP:TRANSPARENT
PRIORITY:0
SUMMARY:Special Olympics Basketball
LOCATION:Allen Dale Gym
DESCRIPTION:Groups:\nSpecial Olympics\n\nSchools:\nAllen Dale Elementary S
 chool\n\nLocation:\nAllen Dale Gym\n\n
URL;VALUE=URI:https://grantspass.tandem.co/index.php?type=view&action=even
 t&id=44505
CREATED:20161206T173620Z
LAST-MODIFIED:20161206T173620Z
UID:event-44505-grantspasshigh@intand.com
END:VEVENT
END:VCALENDAR
