BEGIN:VCALENDAR
VERSION:2.0
PRODID:-//Intand Corporation//Tandem//EN
METHOD:PUBLISH
BEGIN:VEVENT
DTSTAMP:20260422T025011Z
DTSTART:20170220T170000Z
DTEND:20170220T190000Z
TRANSP:TRANSPARENT
PRIORITY:0
SUMMARY:GPHS Boys Basketball Practice
LOCATION:GPHS Main Gym\, GPHS PE Gym
DESCRIPTION:Groups:\nGPHS Basketball Boys Varsity\nGPHS Basketball Boys JV
 \nGPHS Basketball Boys Freshman\n\nSchools:\nGrants Pass High School \n\nL
 ocations:\nGPHS Main Gym\nGPHS PE Gym\n\n
URL;VALUE=URI:https://grantspass.tandem.co/index.php?type=view&action=even
 t&id=44246
CREATED:20161128T015121Z
LAST-MODIFIED:20170217T162218Z
UID:event-44246-grantspasshigh@intand.com
END:VEVENT
END:VCALENDAR
