BEGIN:VCALENDAR
VERSION:2.0
PRODID:-//Intand Corporation//Tandem//EN
METHOD:PUBLISH
BEGIN:VEVENT
DTSTAMP:20260422T013724Z
DTSTART:20170301T003000Z
DTEND:20170301T023000Z
TRANSP:TRANSPARENT
PRIORITY:0
SUMMARY:DB Soccer
LOCATION:GPHS Track Field
DESCRIPTION:Groups:\nDutch Bros\n\nSchools:\nGrants Pass High School \n\nL
 ocation:\nGPHS Track Field\n\n
URL;VALUE=URI:https://grantspass.tandem.co/index.php?type=view&action=even
 t&id=44114
CREATED:20161117T235438Z
LAST-MODIFIED:20161118T230242Z
UID:event-44114-grantspasshigh@intand.com
END:VEVENT
END:VCALENDAR
