BEGIN:VCALENDAR
VERSION:2.0
PRODID:-//Intand Corporation//Tandem//EN
METHOD:PUBLISH
BEGIN:VEVENT
DTSTAMP:20260422T003823Z
DTSTART:20170408T190000Z
DTEND:20170409T010000Z
TRANSP:TRANSPARENT
PRIORITY:0
SUMMARY:[Cancelled] SOS Community Talent Show setup
LOCATION:GPHS PAC Stage\, GPHS PAC Drama Room\, GPHS PAC Dressing Rooms
DESCRIPTION:Groups:\nAdults\n\nSchools:\nGrants Pass High School \n\nLocat
 ions:\nGPHS PAC Stage\nGPHS PAC Drama Room\nGPHS PAC Dressing Rooms\n\n
URL;VALUE=URI:https://grantspass.tandem.co/index.php?type=view&action=even
 t&id=44068
CREATED:20161118T190708Z
LAST-MODIFIED:20170316T171005Z
UID:event-44068-grantspasshigh@intand.com
END:VEVENT
END:VCALENDAR
