BEGIN:VCALENDAR
VERSION:2.0
PRODID:-//Intand Corporation//Tandem//EN
METHOD:PUBLISH
BEGIN:VEVENT
DTSTAMP:20260422T013019Z
DTSTART:20110211T003000Z
DTEND:20110211T023000Z
TRANSP:TRANSPARENT
PRIORITY:0
SUMMARY:SMS 7th and 8th Grade Wrestling @ Scenic Middle School
LOCATION:Scenic Middle School
DESCRIPTION:Start Time 4:30 PM\n\nGroups:\nSMS Wrestling JV\nSMS Wrestling
  \n\nSchools:\nSouth Middle School\n\nLocation:\nScenic Middle School\n\n
URL;VALUE=URI:https://grantspass.tandem.co/index.php?type=view&action=even
 t&id=4393
CREATED:20101117T235536Z
LAST-MODIFIED:20101215T204523Z
UID:event-4393-grantspasshigh@intand.com
END:VEVENT
END:VCALENDAR
