BEGIN:VCALENDAR
VERSION:2.0
PRODID:-//Intand Corporation//Tandem//EN
METHOD:PUBLISH
BEGIN:VEVENT
DTSTAMP:20260422T001632Z
DTSTART:20170209T233000Z
DTEND:20170210T013000Z
TRANSP:TRANSPARENT
PRIORITY:0
SUMMARY:Cheer Practice
LOCATION:GPHS Commons
DESCRIPTION:Groups:\nGPHS Cheer\n\nSchools:\nGrants Pass High School \n\nL
 ocation:\nGPHS Commons\n\n
URL;VALUE=URI:https://grantspass.tandem.co/index.php?type=view&action=even
 t&id=43854
CREATED:20161112T044534Z
LAST-MODIFIED:20161112T044534Z
UID:event-43854-grantspasshigh@intand.com
END:VEVENT
END:VCALENDAR
