BEGIN:VCALENDAR
VERSION:2.0
PRODID:-//Intand Corporation//Tandem//EN
METHOD:PUBLISH
BEGIN:VEVENT
DTSTAMP:20260422T014552Z
DTSTART:20161226T170000Z
DTEND:20161226T190000Z
TRANSP:TRANSPARENT
PRIORITY:0
SUMMARY:Varsity Girls Basketball Practice
LOCATION:GPHS Main Gym
DESCRIPTION:Groups:\nGPHS Basketball Girls Varsity\n\nSchools:\nGrants Pas
 s High School \n\nLocation:\nGPHS Main Gym\n\n
URL;VALUE=URI:https://grantspass.tandem.co/index.php?type=view&action=even
 t&id=43657
CREATED:20161107T045305Z
LAST-MODIFIED:20161107T045305Z
UID:event-43657-grantspasshigh@intand.com
END:VEVENT
END:VCALENDAR
