BEGIN:VCALENDAR
VERSION:2.0
PRODID:-//Intand Corporation//Tandem//EN
METHOD:PUBLISH
BEGIN:VEVENT
DTSTAMP:20260422T003727Z
DTSTART:20161202T033000Z
DTEND:20161202T050000Z
TRANSP:TRANSPARENT
PRIORITY:0
SUMMARY:Boys AAU Practice
LOCATION:GPHS Main Gym\, GPHS PE Gym
DESCRIPTION:Groups:\nAAU Boys Basketball\n\nSchools:\nGrants Pass High Sch
 ool \n\nLocations:\nGPHS Main Gym\nGPHS PE Gym\n\n
URL;VALUE=URI:https://grantspass.tandem.co/index.php?type=view&action=even
 t&id=43609
CREATED:20161105T170644Z
LAST-MODIFIED:20161105T170644Z
UID:event-43609-grantspasshigh@intand.com
END:VEVENT
END:VCALENDAR
