BEGIN:VCALENDAR
VERSION:2.0
PRODID:-//Intand Corporation//Tandem//EN
METHOD:PUBLISH
BEGIN:VEVENT
DTSTAMP:20260422T003523Z
DTSTART:20161209T200000Z
DTEND:20161209T210000Z
TRANSP:TRANSPARENT
PRIORITY:0
SUMMARY:No Gym Use -Program practice
LOCATION:Allen Dale Elementary School
DESCRIPTION:Schools:\nAllen Dale Elementary School\n\nLocation:\nAllen Dal
 e Elementary School\n\n
URL;VALUE=URI:https://grantspass.tandem.co/index.php?type=view&action=even
 t&id=43588
CREATED:20161101T222245Z
LAST-MODIFIED:20161101T222245Z
UID:event-43588-grantspasshigh@intand.com
END:VEVENT
END:VCALENDAR
