BEGIN:VCALENDAR
VERSION:2.0
PRODID:-//Intand Corporation//Tandem//EN
METHOD:PUBLISH
BEGIN:VEVENT
DTSTAMP:20260422T003410Z
DTSTART:20170204T180000Z
DTEND:20170205T075959Z
TRANSP:TRANSPARENT
PRIORITY:0
SUMMARY:GPHS Varsity Wrestling/JV/Novice Cottage Grove Invitational @ Cott
 age Grove
LOCATION:Liberty High School
DESCRIPTION:Breakdown: TBD\n\nReturn: TBD\n\nGroups:\nGPHS Wrestling JV\nG
 PHS Wrestling Novice\nGPHS Wrestling Varsity\n\nSchools:\nGrants Pass High
  School \n\nLocation:\nLiberty High School\n\n
URL;VALUE=URI:https://grantspass.tandem.co/index.php?type=view&action=even
 t&id=43474
CREATED:20161027T162532Z
LAST-MODIFIED:20161027T164550Z
UID:event-43474-grantspasshigh@intand.com
END:VEVENT
END:VCALENDAR
