BEGIN:VCALENDAR
VERSION:2.0
PRODID:-//Intand Corporation//Tandem//EN
METHOD:PUBLISH
BEGIN:VEVENT
DTSTAMP:20260422T001604Z
DTSTART:20101121T220000Z
DTEND:20101122T003000Z
TRANSP:TRANSPARENT
PRIORITY:0
SUMMARY:Generals Baseball Team
LOCATION:GPHS Softball Field
DESCRIPTION:Groups:\nGenerals Baseball Team\n\nSchools:\nGrants Pass High 
 School \n\nLocation:\nGPHS Softball Field\n\n
URL;VALUE=URI:https://grantspass.tandem.co/index.php?type=view&action=even
 t&id=4332
CREATED:20101116T232741Z
LAST-MODIFIED:20101116T232741Z
UID:event-4332-grantspasshigh@intand.com
END:VEVENT
END:VCALENDAR
