BEGIN:VCALENDAR
VERSION:2.0
PRODID:-//Intand Corporation//Tandem//EN
METHOD:PUBLISH
BEGIN:VEVENT
DTSTAMP:20260422T003643Z
DTSTART:20170204T011500Z
DTEND:20170204T024500Z
TRANSP:TRANSPARENT
PRIORITY:0
SUMMARY:GPHS Freshman Boys Basketball w/South Eugene @ GPHS
LOCATION:GPHS PE Gym
DESCRIPTION:Groups:\nGPHS Basketball Boys Freshman\n\nSchools:\nGrants Pas
 s High School \nSouth Eugene High School\n\nLocation:\nGPHS PE Gym\n\n
URL;VALUE=URI:https://grantspass.tandem.co/index.php?type=view&action=even
 t&id=43305
CREATED:20161026T041001Z
LAST-MODIFIED:20161128T063445Z
UID:event-43305-grantspasshigh@intand.com
END:VEVENT
END:VCALENDAR
