BEGIN:VCALENDAR
VERSION:2.0
PRODID:-//Intand Corporation//Tandem//EN
METHOD:PUBLISH
BEGIN:VEVENT
DTSTAMP:20260422T001740Z
DTSTART:20170118T011500Z
DTEND:20170118T024500Z
TRANSP:TRANSPARENT
PRIORITY:0
SUMMARY:GPHS Freshman Boys Basketball w/North Medford @ GPHS
LOCATION:GPHS PE Gym
DESCRIPTION:Groups:\nGPHS Basketball Boys Freshman\n\nSchools:\nNorth Medf
 ord High School\nGrants Pass High School \n\nLocation:\nGPHS PE Gym\n\n
URL;VALUE=URI:https://grantspass.tandem.co/index.php?type=view&action=even
 t&id=43299
CREATED:20161026T041001Z
LAST-MODIFIED:20161109T124132Z
UID:event-43299-grantspasshigh@intand.com
END:VEVENT
END:VCALENDAR
