BEGIN:VCALENDAR
VERSION:2.0
PRODID:-//Intand Corporation//Tandem//EN
METHOD:PUBLISH
BEGIN:VEVENT
DTSTAMP:20260422T013412Z
DTSTART:20161219T200000Z
DTEND:20161219T220000Z
TRANSP:TRANSPARENT
PRIORITY:0
SUMMARY:GPHS Freshman Boys Basketball @ North Medford
LOCATION:North Medford High School
DESCRIPTION:Groups:\nGPHS Basketball Boys Freshman\n\nSchools:\nNorth Medf
 ord High School\nGrants Pass High School \n\nLocation:\nNorth Medford High
  School\n\n
URL;VALUE=URI:https://grantspass.tandem.co/index.php?type=view&action=even
 t&id=43295
CREATED:20161026T041001Z
LAST-MODIFIED:20161026T041001Z
UID:event-43295-grantspasshigh@intand.com
END:VEVENT
END:VCALENDAR
