BEGIN:VCALENDAR
VERSION:2.0
PRODID:-//Intand Corporation//Tandem//EN
METHOD:PUBLISH
BEGIN:VEVENT
DTSTAMP:20260422T013242Z
DTSTART:20170202T020000Z
DTEND:20170202T050000Z
TRANSP:TRANSPARENT
PRIORITY:0
SUMMARY:AAU Boys Practice
LOCATION:South MS Main Gym\, South MS Small Gym
DESCRIPTION:Groups:\nAAU Boys Basketball\n\nSchools:\nSouth Middle School\
 n\nLocations:\nSouth MS Main Gym\nSouth MS Small Gym\n\n
URL;VALUE=URI:https://grantspass.tandem.co/index.php?type=view&action=even
 t&id=43050
CREATED:20161019T191621Z
LAST-MODIFIED:20161215T215536Z
UID:event-43050-grantspasshigh@intand.com
END:VEVENT
END:VCALENDAR
