BEGIN:VCALENDAR
VERSION:2.0
PRODID:-//Intand Corporation//Tandem//EN
METHOD:PUBLISH
BEGIN:VEVENT
DTSTAMP:20260422T013247Z
DTSTART:20170225T160000Z
DTEND:20170225T233000Z
TRANSP:TRANSPARENT
PRIORITY:0
SUMMARY:Girls Rock! 
LOCATION:GPHS PE Gym\, GPHS Commons\, GPHS Core Building - Room 130\, GPHS
  Core Building - Room 131\, GPHS Core Building - Room 132\, GPHS Core Buil
 ding - Room 133\, GPHS Core Building - Room 136\, GPHS Core Building - Roo
 m 137\, GPHS Wrestling R
DESCRIPTION:Setup: 7:00 am\nBreakdown: 4:00 pm\n\nGroups:\nSoroptimists of
  Josephine County\n\nSchools:\nGrants Pass High School \n\nLocations:\nGPH
 S PE Gym\nGPHS Commons\nGPHS Core Building - Room 130\nGPHS Core Building 
 - Room 131\nGPHS Core Building - Room 132\nGPHS Core Building - Room 133\n
 GPHS Core Building - Room 136\nGPHS Core Building - Room 137\nGPHS Wrestli
 ng Room\nGPHS Core Building - Room 134\nGPHS Core Building - Room 135\nGPH
 S Computer Lab 129\nGPHS Science Building - Room 307\n\n
URL;VALUE=URI:https://grantspass.tandem.co/index.php?type=view&action=even
 t&id=43018
CREATED:20161018T154434Z
LAST-MODIFIED:20161018T154743Z
UID:event-43018-grantspasshigh@intand.com
END:VEVENT
END:VCALENDAR
