BEGIN:VCALENDAR
VERSION:2.0
PRODID:-//Intand Corporation//Tandem//EN
METHOD:PUBLISH
BEGIN:VEVENT
DTSTAMP:20260422T003156Z
DTSTART:20161017T220000Z
DTEND:20161018T003000Z
TRANSP:TRANSPARENT
PRIORITY:0
SUMMARY:Girls/Boys JV Soccer Practice
LOCATION:GPHS Softball Field\, GPHS Pool Field/JV Soccer Field
DESCRIPTION:Groups:\nGPHS Soccer Boys JV\nGPHS Soccer Girls JV\n\nSchools:
 \nGrants Pass High School \n\nLocations:\nGPHS Softball Field\nGPHS Pool F
 ield/JV Soccer Field\n\n
URL;VALUE=URI:https://grantspass.tandem.co/index.php?type=view&action=even
 t&id=43013
CREATED:20161017T193831Z
LAST-MODIFIED:20161017T193831Z
UID:event-43013-grantspasshigh@intand.com
END:VEVENT
END:VCALENDAR
