BEGIN:VCALENDAR
VERSION:2.0
PRODID:-//Intand Corporation//Tandem//EN
METHOD:PUBLISH
BEGIN:VEVENT
DTSTAMP:20260422T012946Z
DTSTART:20161127T160000Z
DTEND:20161127T190000Z
TRANSP:TRANSPARENT
PRIORITY:0
SUMMARY:RVFFL
LOCATION:GPHS Mel Ingram Football Field
DESCRIPTION:Groups:\nRVFFL\n\nSchools:\nGrants Pass High School \n\nLocati
 on:\nGPHS Mel Ingram Football Field\n\n
URL;VALUE=URI:https://grantspass.tandem.co/index.php?type=view&action=even
 t&id=42987
CREATED:20161013T165629Z
LAST-MODIFIED:20161118T224545Z
UID:event-42987-grantspasshigh@intand.com
END:VEVENT
END:VCALENDAR
