BEGIN:VCALENDAR
VERSION:2.0
PRODID:-//Intand Corporation//Tandem//EN
METHOD:PUBLISH
BEGIN:VEVENT
DTSTAMP:20260422T003127Z
DTSTART:20170429T150000Z
DTEND:20170430T010000Z
TRANSP:TRANSPARENT
PRIORITY:0
SUMMARY:[Cancelled] RVFFL
LOCATION:GPHS Track Field
DESCRIPTION:Groups:\nRVFFL\n\nSchools:\nGrants Pass High School \n\nLocati
 on:\nGPHS Track Field\n\n
URL;VALUE=URI:https://grantspass.tandem.co/index.php?type=view&action=even
 t&id=42984
CREATED:20161013T165215Z
LAST-MODIFIED:20170307T005235Z
UID:event-42984-grantspasshigh@intand.com
END:VEVENT
END:VCALENDAR
