BEGIN:VCALENDAR
VERSION:2.0
PRODID:-//Intand Corporation//Tandem//EN
METHOD:PUBLISH
BEGIN:VEVENT
DTSTAMP:20260422T024113Z
DTSTART:20161225T180000Z
DTEND:20161225T200000Z
TRANSP:TRANSPARENT
PRIORITY:0
SUMMARY:Edgewater service (10am)
LOCATION:GPHS PAC Stage\, GPHS PAC Choir room/Lecture Hall\, GPHS PAC Dram
 a Room\, GPHS PAC Dressing Rooms\, GPHS PAC Band Room\, GPHS PAC Orchestra
  Room\, GPHS PAC Lobby
DESCRIPTION:Groups:\nEdgewater Christian Fellowship\n\nSchools:\nGrants Pa
 ss High School \n\nLocations:\nGPHS PAC Stage\nGPHS PAC Choir room/Lecture
  Hall\nGPHS PAC Drama Room\nGPHS PAC Dressing Rooms\nGPHS PAC Band Room\nG
 PHS PAC Orchestra Room\nGPHS PAC Lobby\n\n
URL;VALUE=URI:https://grantspass.tandem.co/index.php?type=view&action=even
 t&id=42976
CREATED:20161011T214839Z
LAST-MODIFIED:20161011T214914Z
UID:event-42976-grantspasshigh@intand.com
END:VEVENT
END:VCALENDAR
