BEGIN:VCALENDAR
VERSION:2.0
PRODID:-//Intand Corporation//Tandem//EN
METHOD:PUBLISH
BEGIN:VEVENT
DTSTAMP:20260422T002451Z
DTSTART:20161015T150000Z
DTEND:20161015T200000Z
TRANSP:TRANSPARENT
PRIORITY:0
SUMMARY:GPHS Drama rehearsal
LOCATION:GPHS PAC Stage
DESCRIPTION:Groups:\nGPHS Drama\n\nSchools:\nGrants Pass High School \n\nL
 ocation:\nGPHS PAC Stage\n\n
URL;VALUE=URI:https://grantspass.tandem.co/index.php?type=view&action=even
 t&id=42967
CREATED:20161010T170421Z
LAST-MODIFIED:20161010T170421Z
UID:event-42967-grantspasshigh@intand.com
END:VEVENT
END:VCALENDAR
