BEGIN:VCALENDAR
VERSION:2.0
PRODID:-//Intand Corporation//Tandem//EN
METHOD:PUBLISH
BEGIN:VEVENT
DTSTAMP:20260422T003206Z
DTSTART:20161112T000000Z
DTEND:20161112T050000Z
TRANSP:TRANSPARENT
PRIORITY:0
SUMMARY:Art and Chocolate Festival Set Up
LOCATION:GPHS Commons
DESCRIPTION:Groups:\nDavid Willhite Promotions\n\nSchools:\nGrants Pass Hi
 gh School \n\nLocation:\nGPHS Commons\n\n
URL;VALUE=URI:https://grantspass.tandem.co/index.php?type=view&action=even
 t&id=42813
CREATED:20160929T183150Z
LAST-MODIFIED:20160929T183150Z
UID:event-42813-grantspasshigh@intand.com
END:VEVENT
END:VCALENDAR
