BEGIN:VCALENDAR
VERSION:2.0
PRODID:-//Intand Corporation//Tandem//EN
METHOD:PUBLISH
BEGIN:VEVENT
DTSTAMP:20260422T014615Z
DTSTART:20161005T010000Z
DTEND:20161005T033000Z
TRANSP:TRANSPARENT
PRIORITY:0
SUMMARY:RCC Driver's Training Course
LOCATION:GPHS Core Building - Room 136\, GPHS Core Building - Room 137
DESCRIPTION:Groups:\nRogue Community College\n\nSchools:\nGrants Pass High
  School \n\nLocations:\nGPHS Core Building - Room 136\nGPHS Core Building 
 - Room 137\n\n
URL;VALUE=URI:https://grantspass.tandem.co/index.php?type=view&action=even
 t&id=42794
CREATED:20160928T212516Z
LAST-MODIFIED:20160928T212516Z
UID:event-42794-grantspasshigh@intand.com
END:VEVENT
END:VCALENDAR
