BEGIN:VCALENDAR
VERSION:2.0
PRODID:-//Intand Corporation//Tandem//EN
METHOD:PUBLISH
BEGIN:VEVENT
DTSTAMP:20260422T003429Z
DTSTART:20170312T150000Z
DTEND:20170312T200000Z
TRANSP:TRANSPARENT
PRIORITY:0
SUMMARY:Honor Orchestra St.Patrick's Breakfast
LOCATION:GPHS Commons
DESCRIPTION:Groups:\nDistrict #7 Honor Orchestra\n\nSchools:\nGrants Pass 
 High School \n\nLocation:\nGPHS Commons\n\n
URL;VALUE=URI:https://grantspass.tandem.co/index.php?type=view&action=even
 t&id=42756
CREATED:20160927T210858Z
LAST-MODIFIED:20160927T210858Z
UID:event-42756-grantspasshigh@intand.com
END:VEVENT
END:VCALENDAR
