BEGIN:VCALENDAR
VERSION:2.0
PRODID:-//Intand Corporation//Tandem//EN
METHOD:PUBLISH
BEGIN:VEVENT
DTSTAMP:20260422T013849Z
DTSTART:20161001T230000Z
DTEND:20161002T000000Z
TRANSP:TRANSPARENT
PRIORITY:0
SUMMARY:AAU Girls Sign Ups
LOCATION:GPHS Main Gym\, GPHS PE Gym
DESCRIPTION:Sign ups and shooting\n\nGroups:\nAAU Girls Basketball\n\nScho
 ols:\nGrants Pass High School \n\nLocations:\nGPHS Main Gym\nGPHS PE Gym\n
 \n
URL;VALUE=URI:https://grantspass.tandem.co/index.php?type=view&action=even
 t&id=42741
CREATED:20160926T163933Z
LAST-MODIFIED:20160926T163933Z
UID:event-42741-grantspasshigh@intand.com
END:VEVENT
END:VCALENDAR
