BEGIN:VCALENDAR
VERSION:2.0
PRODID:-//Intand Corporation//Tandem//EN
METHOD:PUBLISH
BEGIN:VEVENT
DTSTAMP:20260422T003502Z
DTSTART:20170316T230000Z
DTEND:20170317T000000Z
TRANSP:TRANSPARENT
PRIORITY:0
SUMMARY:Highland Exercise Group
LOCATION:Highland Gym
DESCRIPTION:Groups:\nHighland Elementary School Faculty\n\nSchools:\nHighl
 and Elementary School\n\nLocation:\nHighland Gym\n\n
URL;VALUE=URI:https://grantspass.tandem.co/index.php?type=view&action=even
 t&id=42719
CREATED:20160926T150106Z
LAST-MODIFIED:20161201T212045Z
UID:event-42719-grantspasshigh@intand.com
END:VEVENT
END:VCALENDAR
