BEGIN:VCALENDAR
VERSION:2.0
PRODID:-//Intand Corporation//Tandem//EN
METHOD:PUBLISH
BEGIN:VEVENT
DTSTAMP:20260422T001443Z
DTSTART:20101126T150000Z
DTEND:20101126T200000Z
TRANSP:TRANSPARENT
PRIORITY:0
SUMMARY:NMS Thanksgiving Holiday - No School
LOCATION:North Middle School
DESCRIPTION:Groups:\nNorth MS Faculty\n\nSchools:\nNorth Middle School\n\n
 Location:\nNorth Middle School\n\n
URL;VALUE=URI:https://grantspass.tandem.co/index.php?type=view&action=even
 t&id=4271
CREATED:20101110T184032Z
LAST-MODIFIED:20101110T184032Z
UID:event-4271-grantspasshigh@intand.com
END:VEVENT
END:VCALENDAR
