BEGIN:VCALENDAR
VERSION:2.0
PRODID:-//Intand Corporation//Tandem//EN
METHOD:PUBLISH
BEGIN:VEVENT
DTSTAMP:20260422T013708Z
DTSTART:20101112T193000Z
DTEND:20101112T200000Z
TRANSP:TRANSPARENT
PRIORITY:0
SUMMARY:NMS Designated Day Reduction - Gym Closed
LOCATION:North Middle School
DESCRIPTION:Groups:\nNorth MS Faculty\n\nSchools:\nNorth Middle School\n\n
 Location:\nNorth Middle School\n\n
URL;VALUE=URI:https://grantspass.tandem.co/index.php?type=view&action=even
 t&id=4268
CREATED:20101110T181122Z
LAST-MODIFIED:20101110T181122Z
UID:event-4268-grantspasshigh@intand.com
END:VEVENT
END:VCALENDAR
